BEGIN:VCALENDAR
VERSION:2.0
PRODID:-//Beacon Medical Professionals - ECPv6.6.3//NONSGML v1.0//EN
CALSCALE:GREGORIAN
METHOD:PUBLISH
X-WR-CALNAME:Beacon Medical Professionals
X-ORIGINAL-URL:https://www.beaconhealthsystem.org/medical-professionals
X-WR-CALDESC:Events for Beacon Medical Professionals
REFRESH-INTERVAL;VALUE=DURATION:PT1H
X-Robots-Tag:noindex
X-PUBLISHED-TTL:PT1H
BEGIN:VTIMEZONE
TZID:America/Indiana/Indianapolis
BEGIN:DAYLIGHT
TZOFFSETFROM:-0500
TZOFFSETTO:-0400
TZNAME:EDT
DTSTART:20230312T070000
END:DAYLIGHT
BEGIN:STANDARD
TZOFFSETFROM:-0400
TZOFFSETTO:-0500
TZNAME:EST
DTSTART:20231105T060000
END:STANDARD
END:VTIMEZONE
BEGIN:VEVENT
DTSTART;VALUE=DATE:20231206
DTEND;VALUE=DATE:20231207
DTSTAMP:20260422T005628
CREATED:20230719T173957Z
LAST-MODIFIED:20231215T175832Z
UID:10000381-1701820800-1701907199@www.beaconhealthsystem.org
SUMMARY:Provider Documentation
DESCRIPTION:Click HERE to Access OnDemand Recording \nClick HERE to Access CME Evaluation  \nProvider Documentation \nPresented By: Scott Eshowsky\, MD – Chief Medical Information Officer\, Beacon Health System \nLearnign Objectives: \n\nUnderstand the relevance of Provider Documentation\nLearn why Beacon is transitioning away from PowerNotes to Dynamic Documentation\nDiscover Cerner functionality contributing to the provider documentation experience\nLearn about how Beacon intends to leverage Artificial Intelligence to assist providers with documentation\n\n \nDr. Eshowsky received his medical degree from Indiana University School of Medicine and completed his residency in Family Medicine at Ball Memorial Hospital in Muncie\, where he served as Chief Resident. He is board-certified in Family Medicine.\nDr. Eshowsky also serves as the Chief Medical Information Officer for Beacon Health System\, and is also a member of Beacon Medical Group’s Physician Governance Council.  He is passionate about achieving clinical excellence by enhancing and standardizing the use of technology for all of Beacon’s caregivers.
URL:https://www.beaconhealthsystem.org/medical-professionals/event/provider-documentation-2/
LOCATION:On Demand
CATEGORIES:CME Events,On Demand CME Events
END:VEVENT
BEGIN:VEVENT
DTSTART;VALUE=DATE:20231213
DTEND;VALUE=DATE:20231214
DTSTAMP:20260422T005628
CREATED:20230719T174632Z
LAST-MODIFIED:20231215T180146Z
UID:10000385-1702425600-1702511999@www.beaconhealthsystem.org
SUMMARY:COVID-19 Almost 4 Years Later – What Have We Learned?
DESCRIPTION:Click HERE to Access OnDemand Recording  \nClick HERE to Access CME Evaluation  \nCOVID-19 Almost 4 Years Later – What Have We Learned? \nPresented by: Andreas Deymann\, MD – Pediatric Critical Care Medicine \n \nDr. Deymann received his medical degree from Ruhr-University Bochum Medical School in Bochum\, Germany. He completed his residency in pediatrics and internal medicine at William Beaumont Hospital in Royal Oak\, Michigan and fellowship in pediatric intensive care at Harbor-UCLA Medical Center in Los Angeles\, California.Dr. Deymann has worked at Riley Hospital for Children in Indianapolis\, and as an associate professor of clinical pediatrics at Indiana University School of Medicine. Board-certified in internal medicine\, pediatrics and pediatric critical care\, he has served in multiple leadership positions\, including various hospital committees\, conducted numerous lectures and contributed to publications. Dr. Deymann is a fellow of the American Academy of Pediatrics and the Society of Critical Care
URL:https://www.beaconhealthsystem.org/medical-professionals/event/sepsis-case-review/
LOCATION:On Demand
CATEGORIES:CME Events,On Demand CME Events
END:VEVENT
BEGIN:VEVENT
DTSTART;VALUE=DATE:20231220
DTEND;VALUE=DATE:20231221
DTSTAMP:20260422T005628
CREATED:20230719T174828Z
LAST-MODIFIED:20230809T132622Z
UID:10000386-1703030400-1703116799@www.beaconhealthsystem.org
SUMMARY:Update on Hypothermia and Cold Injuries
DESCRIPTION:Click HERE to Access Webinar Registration  \nUpdate on Hypothermia and Cold Injuries \nPresented By: Kyle English\, MD – Emergency Medicine\, Beacon Health System
URL:https://www.beaconhealthsystem.org/medical-professionals/event/emergency-medicine/
LOCATION:Patel Auditorium at Elkhart General Hospital\, 600 East Boulevard\, Elkhart\, IN\, 46514\, United States
CATEGORIES:CME Events
END:VEVENT
END:VCALENDAR