BEGIN:VCALENDAR
VERSION:2.0
PRODID:-//Beacon Medical Professionals - ECPv6.6.3//NONSGML v1.0//EN
CALSCALE:GREGORIAN
METHOD:PUBLISH
X-ORIGINAL-URL:https://www.beaconhealthsystem.org/medical-professionals
X-WR-CALDESC:Events for Beacon Medical Professionals
REFRESH-INTERVAL;VALUE=DURATION:PT1H
X-Robots-Tag:noindex
X-PUBLISHED-TTL:PT1H
BEGIN:VTIMEZONE
TZID:America/Indiana/Indianapolis
BEGIN:DAYLIGHT
TZOFFSETFROM:-0500
TZOFFSETTO:-0400
TZNAME:EDT
DTSTART:20240310T070000
END:DAYLIGHT
BEGIN:STANDARD
TZOFFSETFROM:-0400
TZOFFSETTO:-0500
TZNAME:EST
DTSTART:20241103T060000
END:STANDARD
END:VTIMEZONE
BEGIN:VEVENT
DTSTART;VALUE=DATE:20240207
DTEND;VALUE=DATE:20240208
DTSTAMP:20260422T005827
CREATED:20231228T152316Z
LAST-MODIFIED:20240209T155126Z
UID:10000395-1707264000-1707350399@www.beaconhealthsystem.org
SUMMARY:EMTALA – General Considerations and Receiving Hospital Obligations
DESCRIPTION:Click HERE to Access OnDemand Recording  \nClick HERE to Access CME Evaluation  \nEMTALA – General Considerations and Receiving Hospital Obligations \nPresented By: Chris Eades\, Attorney – Hall Render Advisory Services \nLearning Objectives: \n\nAppreciate the genesis of EMTALA and understand the basic regulatory framework attendant to same;\nDistinguish the legal obligations of receiving hospitals (from transferring facilities) and understand the implications for non-compliance with these obligations; and\nConsider and apply best practices to ensure receiving hospital are in a position to evidence compliance with their EMTALA obligations.\n\n  \nChris Eades focuses his practice in the areas of virtual care and medical staff governance. With respect to the latter\, Chris regularly counsels clients on matters involving medical staff credentialing and peer review\, as well as interpretation and application of hospital and professional licensure rules\, Medicare conditions of participation\, accreditation standards\, and medical staff governing documents. He is engaged by the firm’s clients to assist with the drafting and implementation of medical staff bylaws\, credentialing policies\, rules and regulations\, peer review sharing arrangements\, FPPE/OPPE processes and other medical staff policies and procedures. Peer review confidentiality and peer review immunity are critical to effective hospital and medical staff quality review. Chris frequently represents hospitals and other health care entities in the context of medical staff quality review and corrective action processes\, fair hearings and related litigation\, assisting these clients to maximize the intended benefit of peer review confidentiality and to achieve state and federal peer review immunity. \nAs part of his virtual care practice\, Chris regularly works with health care entities and providers throughout the country\, and also in other areas of the world\, to develop and implement virtual care programs. There is wide variability among jurisdictions in their approach to telehealth and telemedicine. Chris assists the firm’s clients to navigate this variability and to understand and appropriately apply the relevant telemedicine rules and regulations\, particularly those involving the professional practice of virtual care. These matters routinely involve professional licensure requirements\, delegated credentialing agreements\, scope of practice considerations\, informed consent for telemedicine services\, related recordkeeping requirements\, telemedicine prescription requirements and other aspects of virtual care workflow. Chris enjoys speaking at conferences and events throughout the year on aspects of virtual care\, particularly as the applicable regulatory framework continues to evolve in response to the wealth of potential made possible through telemedicine technology. \n 
URL:https://www.beaconhealthsystem.org/medical-professionals/event/us-outbreak-update-on-malaria-dengue-virus/
LOCATION:On Demand
CATEGORIES:CME Events,On Demand CME Events
END:VEVENT
BEGIN:VEVENT
DTSTART;VALUE=DATE:20240214
DTEND;VALUE=DATE:20240215
DTSTAMP:20260422T005827
CREATED:20231228T151624Z
LAST-MODIFIED:20240223T170022Z
UID:10000396-1707868800-1707955199@www.beaconhealthsystem.org
SUMMARY:Pulmonary Embolism Response Team
DESCRIPTION:Click HERE to Access OnDemand Recording \nClick HERE to Access CME Evaluation  \nPulmonary Embolism Response Team \nPresented By: Luke White\, DO – Pulmonology\, Beacon Health System \nLuke Collins\, MD – Emergency Medicine\, SB Emergency Physicians\, Inc. \nM. Shakil Aslam\, MD – Nuclear Cardiology/Interventional Cardiology \nLearning objectives:  \n\nFamiliarize audience with the role of a PERT program for treatment of pulmonary embolism.\nPromote ability to describe basic risk stratification and treatment options typically utilized at Memorial Hospital.\nIncrease confidence with activating the PERT team as needed.\n\n  \n  \nDr. Luke White\, DO is a critical care medicine specialist in South Bend\, IN and has over 15 years of experience in the medical field. He graduated from Midwestern University Arizona College of Osteopathic Medicine in 2007. He is affiliated with Memorial Hospital Of South Bend. \n  \n  \n  \n  \n  \nDr. Luke Collins is a graduate of Indiana School of Medicine at the Notre Dame campus. He attended Emergency Medicine residency at DMC Wayne State Sinai Grace Hospital in Detroit\, and now works with South Bend Emergency Physicians\, Inc. \n  \n  \n  \n  \n  \n  \n  \nDr. Aslam received his medical degree from King Edward Medical University in Lahore\, Pakistan and Masters in Public Health / Health Administration from University of Oklahoma-health Sciences Center\, Oklahoma City. He completed his internal medicine residency at Chicago Medical School\, Rosalind Franklin University\, cardiology fellowship at Advocate Lutheran General Hospital\, Park Ridge\, Illinois and Interventional cardiology fellowship at Aurora St. Luke’s Hospital / University of Wisconsin – Milwaukee Affiliated Hospitals in Milwaukee\, Wisconsin. He is board-certified in cardiology\, nuclear medicine\, interventional cardiology and endovascular medicine. He is a fellow of the American College of Cardiology and a fellow of the society of cardiac angiography and intervention. He serves as faculty at University of Indiana School of Medicine as Voluntary assistant Professor. \nHe is currently Medical Director of Advanced Cardiovascular Specialists at South Bend as well as Medical Director of Cardiac Cath Lab at Memorial Hospital of South Bend. He serves on the Governing Council of the Beacon Heart & Vascular & Stroke Center and various quality and peer review committees. He formerly served as director of Cardiac Rehabilitation at Memorial Hospital of South Bend and director of ICU and Cardiopulmonary Services at Grandview Hospital in Michigan \nHe has special interest in coronary\, peripheral and endovascular interventions\, transcatheter aortic valve replacement (TAVR)\, as well as structural heart diseases.
URL:https://www.beaconhealthsystem.org/medical-professionals/event/pulmonary-embolism-response-team/
LOCATION:On Demand
CATEGORIES:CME Events,On Demand CME Events
END:VEVENT
BEGIN:VEVENT
DTSTART;VALUE=DATE:20240221
DTEND;VALUE=DATE:20240222
DTSTAMP:20260422T005827
CREATED:20231228T151949Z
LAST-MODIFIED:20240223T165821Z
UID:10000397-1708473600-1708559999@www.beaconhealthsystem.org
SUMMARY:Food for Thought: Tools and Challenges in Critical Care Nutrition
DESCRIPTION:Click HERE to Access OnDemand Recording \nClick HERE to Access CME Evaluation \nFood for Thought: Tools and Challenges in Critical Care Nutrition. \nPresented By: Colin Fath\, MD \nLearning Objectives:  \n\nUnderstand the potential benefits and risks in nutritional support for the critically ill patient\nRecognize the multiple barriers between our patients and optimal nutrition in ICU\nIdentify the strategies and tools available to improve patient outcomes despite these hurdles\n\nWhile Colin T. Fath\, MD\, started his college career as a chemical engineering major\, he pivoted toward medicine as he saw many engineers moving into management roles as they progressed in their field. “In the hospital I have the opportunity to keep practicing science\, work closely with people\, and have more chances to be of service in my community\,” he says. \nThe field of medicine was also a familiar one to him with both grandfathers\, his father\, and one of his sisters in this line of work. Dr. Fath chose to focus on acute care and typically treats surgical emergencies\, such as a car accident or an inflamed appendix. “My role is to guide those who are at their very sickest back toward safety\,” he says. “Between emergencies\, I treat general surgical problems such as hernias\, lumps and gallbladder disease.” \nHe studied at the University of Notre Dame where he earned his Bachelor of Science degree in Chemical Engineering. He then graduated from Wayne State School of Medicine\, Detroit\, with his Medical Degree. His residency was completed at University of Iowa Hospitals and Clinics\, Iowa City\, in general surgery and his fellowship in surgical critical care was at University of Kentucky\, Lexington. \nDr. Fath sees his role as advisor\, with the final decision always with the patients he was done his best to make well-informed. He educates patients on their condition\, treatment options and what to expect in the various scenarios. “The right choice depends on each individual’s specific situation and values\,” he says. \nHe believes that while people will eventually become ill\, they will be better able to tackle a setback and other challenges in life if they have first taken care of their health.
URL:https://www.beaconhealthsystem.org/medical-professionals/event/topics-in-surgical-procedures/
LOCATION:On Demand
CATEGORIES:On Demand CME Events
END:VEVENT
BEGIN:VEVENT
DTSTART;VALUE=DATE:20240228
DTEND;VALUE=DATE:20240229
DTSTAMP:20260422T005827
CREATED:20231228T152233Z
LAST-MODIFIED:20240228T173713Z
UID:10000398-1709078400-1709164799@www.beaconhealthsystem.org
SUMMARY:Surrogate Healthcare Decision Makers: An Ethical and Medicolegal Discussion
DESCRIPTION:Click HERE to Access OnDemand Recording \nClick HERE to Access CME Evaluation \nSurrogate Healthcare Decision Makers: An Ethical and Medicolegal Discussion  \nPresented By: Nick Kerr\, DO – Palliative Care\, Beacon Health System \nLearning Objectives:  \n\nExplain the purpose and role of surrogate healthcare decision makers\nReview the Indiana hierarchy for surrogate healthcare decision makers\nUnderstand best practices for establishing and communicating with surrogate decision makers\n\nDr. Kerr received his medical degree from Des Moines University College of Osteopathic Medicine in Des Moines\, Iowa\, and completed his family residency at Saint Joseph Health System in Mishawaka and his hospice and palliative medicine fellowship at the University of Louisville School of Medicine. He is certified by the American Board of Family Medicine. Dr. Kerr is a member of the American Academy of Family Physicians and the American Academy of Hospice and Palliative Medicine. Dr. Kerr chose to specialize in palliative medicine to fulfill his passion to provide comprehensive supportive care and assistance to patients and patient’s families facing both life altering and terminal illnesses.
URL:https://www.beaconhealthsystem.org/medical-professionals/event/ethical-consideration-revolving-surrogate-decision-makers/
LOCATION:On Demand
CATEGORIES:CME Events,On Demand CME Events
END:VEVENT
END:VCALENDAR