BEGIN:VCALENDAR
VERSION:2.0
PRODID:-//Beacon Medical Professionals - ECPv6.6.3//NONSGML v1.0//EN
CALSCALE:GREGORIAN
METHOD:PUBLISH
X-ORIGINAL-URL:https://www.beaconhealthsystem.org/medical-professionals
X-WR-CALDESC:Events for Beacon Medical Professionals
REFRESH-INTERVAL;VALUE=DURATION:PT1H
X-Robots-Tag:noindex
X-PUBLISHED-TTL:PT1H
BEGIN:VTIMEZONE
TZID:UTC
BEGIN:STANDARD
TZOFFSETFROM:+0000
TZOFFSETTO:+0000
TZNAME:UTC
DTSTART:20230101T000000
END:STANDARD
END:VTIMEZONE
BEGIN:VEVENT
DTSTART;VALUE=DATE:20230412
DTEND;VALUE=DATE:20230413
DTSTAMP:20260420T150300
CREATED:20230215T195350Z
LAST-MODIFIED:20230510T172141Z
UID:10000368-1681257600-1681343999@www.beaconhealthsystem.org
SUMMARY:An Update on Out of Hospital Cardiac Arrest
DESCRIPTION:Click HERE to Access OnDemand Recording  \nClick HERE to Access CME Evaluation  \nAn Update on Out of Hospital Cardiac Arrest \nPresented By: William Sarnat\, MD – General Cardiology\, Mishawaka Medical Center and Steven Joyce\, MD – Emergency Medicine\, Beacon Health System \n 
URL:https://www.beaconhealthsystem.org/medical-professionals/event/an-update-on-out-of-hospital-cardiac-arrest/
LOCATION:Auditorium at Memorial Hospital\, 615 N Michigan St\, South Bend\, IN\, 46601\, United States
CATEGORIES:CME Events,Grand Rounds,On Demand CME Events
END:VEVENT
END:VCALENDAR