BEGIN:VCALENDAR
VERSION:2.0
PRODID:-//Beacon Medical Professionals - ECPv6.6.3//NONSGML v1.0//EN
CALSCALE:GREGORIAN
METHOD:PUBLISH
X-ORIGINAL-URL:https://www.beaconhealthsystem.org/medical-professionals
X-WR-CALDESC:Events for Beacon Medical Professionals
REFRESH-INTERVAL;VALUE=DURATION:PT1H
X-Robots-Tag:noindex
X-PUBLISHED-TTL:PT1H
BEGIN:VTIMEZONE
TZID:UTC
BEGIN:STANDARD
TZOFFSETFROM:+0000
TZOFFSETTO:+0000
TZNAME:UTC
DTSTART:20230101T000000
END:STANDARD
END:VTIMEZONE
BEGIN:VEVENT
DTSTART;VALUE=DATE:20230201
DTEND;VALUE=DATE:20230202
DTSTAMP:20260421T002318
CREATED:20230104T230319Z
LAST-MODIFIED:20230302T183935Z
UID:10000358-1675209600-1675295999@www.beaconhealthsystem.org
SUMMARY:Surgery Update
DESCRIPTION:Click HERE to Access OnDemand Recording  \nClick HERE to Access CME Evaluation  \nSurgery Update \nPresented By: Matthew Deere\, DO General Surgery\, Elkhart Clinic \nDr. Matthew Deere is a general surgeon in Elkhart\, Indiana and is affiliated with Elkhart General Hospital. He received his medical degree from Michigan State University College of Osteopathic Medicine and has been in practice between 6-10 years.
URL:https://www.beaconhealthsystem.org/medical-professionals/event/surgery-update/
LOCATION:OnDemand
CATEGORIES:CME Events,Grand Rounds,On Demand CME Events
END:VEVENT
END:VCALENDAR