BEGIN:VCALENDAR
VERSION:2.0
PRODID:-//Beacon Medical Professionals - ECPv6.6.3//NONSGML v1.0//EN
CALSCALE:GREGORIAN
METHOD:PUBLISH
X-WR-CALNAME:Beacon Medical Professionals
X-ORIGINAL-URL:https://www.beaconhealthsystem.org/medical-professionals
X-WR-CALDESC:Events for Beacon Medical Professionals
REFRESH-INTERVAL;VALUE=DURATION:PT1H
X-Robots-Tag:noindex
X-PUBLISHED-TTL:PT1H
BEGIN:VTIMEZONE
TZID:UTC
BEGIN:STANDARD
TZOFFSETFROM:+0000
TZOFFSETTO:+0000
TZNAME:UTC
DTSTART:20230101T000000
END:STANDARD
END:VTIMEZONE
BEGIN:VEVENT
DTSTART;VALUE=DATE:20230419
DTEND;VALUE=DATE:20230420
DTSTAMP:20260420T035512
CREATED:20230215T195916Z
LAST-MODIFIED:20230421T224819Z
UID:10000369-1681862400-1681948799@www.beaconhealthsystem.org
SUMMARY:Update on Management of Atrial Fibrillation
DESCRIPTION:Click HERE to Access Webinar Link  \nUpdate on Management of Atrial Fibrillation \nPresented By: Gurudutt Kulkarni\, MD – Electrophysiology\, Beacon Health System and Adil Wani\, MD – Cardiology\, Interventional Cardiology\, Beacon Health System \n  \nDr. Kulkarni received his medical degree from Jawaharal Nehru Medical College and completed his internship and residency at Graduate Hospital in Philadelphia\, Pennsylvania. He completed his cardiology fellowship and clinical cardiac electrophysiology fellowship at the University of Missouri in Kansas City. He is board-certified in internal medicine\, cardiovascular diseases and clinical cardiac electrophysiology.\nDr. Kulkarni is a fellow of the American College of Cardiology and a member of the North American Society of Pacing and Electrophysiology. \n  \n  \nDr. Adil S. Wani’s father\, uncle and late grandfather were all physicians\, but it wasn’t until high school that Dr. Wani decided on a career in medicine. “It was fascinating to me how the human body maintains homeostasis and small changes in this balance can lead to an illness. Preventing these small changes and improving an individual’s well-being would further lead to uplifting society. This has been my ultimate goal.”\nWhile there were many reasons to join the team\, Dr. Wani chose Beacon because he shares our mission and values. “Beacon and I share the same goal: To enhance the physical\, mental\, emotional and spiritual well-being of communities.”\nAs an interventional cardiologist\, Dr. Wani can deliver on that. “I treat individuals suffering from heart disorders. I consider the heart to be the center of the body. Any disturbance in the heart can cause a significant impact on one’s health. Prevention and treatment of a disease in such a vital organ and its impact on well-being led me to choose this specialty.”\nDr. Wani received his medical degree from the Government Medical College in Srinagar\, Jammu and Kashmir\, India. He completed his residency at the Conemaugh Memorial Medical Center in Johnstown\, Pennsylvania\, and Allegheny General Hospital in Pittsburgh\, Pennsylvania. He completed his Cardiology Fellowship and was the Chief Fellow at Advocate Aurora Health Care in Milwaukee\, Wisconsin.\nThough interventional cardiology is his specialty\, Dr. Wani has another treatment strategy he uses with all patients. “Patients have taught me the power of listening. Listening to someone with undivided attention is one of the most profound healings one can provide another.”\nAnd because he listens to his patients\, Dr. Wani can keep the focus of his work where it matters: his patients. “My philosophy is to keep my treatment plan patient-centered\, simple and thorough.”
URL:https://www.beaconhealthsystem.org/medical-professionals/event/update-on-management-of-atrial-fibrillation/
LOCATION:Patel Auditorium at Elkhart General Hospital\, 600 East Boulevard\, Elkhart\, IN\, 46514\, United States
CATEGORIES:CME Events,Grand Rounds,On Demand CME Events
END:VEVENT
END:VCALENDAR