BEGIN:VCALENDAR
VERSION:2.0
PRODID:-//Beacon Medical Professionals - ECPv6.6.3//NONSGML v1.0//EN
CALSCALE:GREGORIAN
METHOD:PUBLISH
X-WR-CALNAME:Beacon Medical Professionals
X-ORIGINAL-URL:https://www.beaconhealthsystem.org/medical-professionals
X-WR-CALDESC:Events for Beacon Medical Professionals
REFRESH-INTERVAL;VALUE=DURATION:PT1H
X-Robots-Tag:noindex
X-PUBLISHED-TTL:PT1H
BEGIN:VTIMEZONE
TZID:UTC
BEGIN:STANDARD
TZOFFSETFROM:+0000
TZOFFSETTO:+0000
TZNAME:UTC
DTSTART:20230101T000000
END:STANDARD
END:VTIMEZONE
BEGIN:VEVENT
DTSTART;VALUE=DATE:20230426
DTEND;VALUE=DATE:20230427
DTSTAMP:20260425T205019
CREATED:20230421T224754Z
LAST-MODIFIED:20230510T173522Z
UID:10000276-1682467200-1682553599@www.beaconhealthsystem.org
SUMMARY:An Update on Brain Death Determination
DESCRIPTION:Click HERE to Access OnDemand Recording  \nClick HERE to Access CME Evaluation  \nAn Update on Brain Death Determination \nPresented By:  Sherri A. Braksick\, MD – Neurointensivist\, Mayo Clinic \nDr. Sherri Braksick a neurointensivist at Mayo Clinic in Rochester\, MN. She obtained her medical degree from the University of Kansas and completed neurology residency and neurocritical care fellowship at Mayo Clinic. Dr. Braksick is heavily involved in medical education\, serving as program director for the neurocritical care fellowship and associate program director for the neurology residency\, is a CME question writer for the American Academy of Neurology\, and sits on multiple committees overseeing educational activities for the department of neurology and critical care practice at Mayo\, including as a contributing author to AskMayoExpert.  Her research interests include medical education and neurologic complications of systemic disease.
URL:https://www.beaconhealthsystem.org/medical-professionals/event/an-update-on-brain-death-determination/
CATEGORIES:CME Events,Grand Rounds,On Demand CME Events
END:VEVENT
END:VCALENDAR