BEGIN:VCALENDAR
VERSION:2.0
PRODID:-//Beacon Medical Professionals - ECPv6.6.3//NONSGML v1.0//EN
CALSCALE:GREGORIAN
METHOD:PUBLISH
X-WR-CALNAME:Beacon Medical Professionals
X-ORIGINAL-URL:https://www.beaconhealthsystem.org/medical-professionals
X-WR-CALDESC:Events for Beacon Medical Professionals
REFRESH-INTERVAL;VALUE=DURATION:PT1H
X-Robots-Tag:noindex
X-PUBLISHED-TTL:PT1H
BEGIN:VTIMEZONE
TZID:UTC
BEGIN:STANDARD
TZOFFSETFROM:+0000
TZOFFSETTO:+0000
TZNAME:UTC
DTSTART:20230101T000000
END:STANDARD
END:VTIMEZONE
BEGIN:VEVENT
DTSTART;VALUE=DATE:20230427
DTEND;VALUE=DATE:20230428
DTSTAMP:20260423T162628
CREATED:20230421T225000Z
LAST-MODIFIED:20230510T173633Z
UID:10000278-1682553600-1682639999@www.beaconhealthsystem.org
SUMMARY:An Update on Pancreatic Cancer
DESCRIPTION:Click HERE to Access OnDemand Recording:   \nClick HERE to Access CME Evaluation  \nAn Update on Pancreatic Cancer \nPresented By: Mark J. Truty\, M.D.\, M.S. – Hepatobiliary and Pancreas Surgeon\, Mayo Clinic \n  \nDr. Truty is a cancer surgeon with extensive training and experience in the management of Pancreatic\, Liver\, Biliary\, Gastric\, Small Bowel/Carcinoid\, and Sarcoma Tumors. \nHe is specifically sought out given his novel approaches to preoperative treatment of these tumors in order to improve outcomes after surgery as well as his willingness and technical skillset to offer curative intent operations for patients with more advanced tumors that other surgeons have deemed “inoperable”
URL:https://www.beaconhealthsystem.org/medical-professionals/event/an-update-on-pancreatic-cancer/
CATEGORIES:CME Events,Grand Rounds,On Demand CME Events
END:VEVENT
END:VCALENDAR