BEGIN:VCALENDAR
VERSION:2.0
PRODID:-//Beacon Medical Professionals - ECPv6.6.3//NONSGML v1.0//EN
CALSCALE:GREGORIAN
METHOD:PUBLISH
X-ORIGINAL-URL:https://www.beaconhealthsystem.org/medical-professionals
X-WR-CALDESC:Events for Beacon Medical Professionals
REFRESH-INTERVAL;VALUE=DURATION:PT1H
X-Robots-Tag:noindex
X-PUBLISHED-TTL:PT1H
BEGIN:VTIMEZONE
TZID:America/Indiana/Indianapolis
BEGIN:DAYLIGHT
TZOFFSETFROM:-0500
TZOFFSETTO:-0400
TZNAME:EDT
DTSTART:20230312T070000
END:DAYLIGHT
BEGIN:STANDARD
TZOFFSETFROM:-0400
TZOFFSETTO:-0500
TZNAME:EST
DTSTART:20231105T060000
END:STANDARD
BEGIN:DAYLIGHT
TZOFFSETFROM:-0500
TZOFFSETTO:-0400
TZNAME:EDT
DTSTART:20240310T070000
END:DAYLIGHT
BEGIN:STANDARD
TZOFFSETFROM:-0400
TZOFFSETTO:-0500
TZNAME:EST
DTSTART:20241103T060000
END:STANDARD
END:VTIMEZONE
BEGIN:VEVENT
DTSTART;VALUE=DATE:20230906
DTEND;VALUE=DATE:20230907
DTSTAMP:20260423T083808
CREATED:20230719T172008Z
LAST-MODIFIED:20230906T172203Z
UID:10000374-1693958400-1694044799@www.beaconhealthsystem.org
SUMMARY:Office of National Drug Control Policy\, Federal Drug Control Initiatives
DESCRIPTION:Click HERE to Access Recording  \nClick HERE to Access CME Evaluation  \nOffice of National Drug Control Policy\, Federal Drug Control Initiatives \nPresented By: Rahul Gupta MD\, MPH\, FACP\, MBA – Director of National Control Policy\, The White House \nRahul Gupta\, MD\, MPH\, MBA\, FACP\, is the first medical doctor to serve as the Director of National Drug Control Policy and lead the Office of National Drug Control Policy (ONDCP)\, a component of the Executive Office of the President. \n  \nA board-certified internist\, Dr. Gupta has been a practicing primary care physician for more than 25 years\, and has served in private practice and public health in towns as small as 1\,900 residents and cities as large as 25 million. He has served as a local public health official and as the West Virginia Health Commissioner under two governors\, where he brought together public health\, law enforcement\, healthcare\, faith-based\, business\, and other community partners to solve local problems in novel and innovative ways. As the state’s Chief Health Officer\, he led the opioid crisis response and launched a number of pioneering public health initiatives\, including the Neonatal Abstinence Syndrome Birthscore program to identify high-risk infants\, and the groundbreaking statewide Social Autopsy\, which examined the lives of overdose victims to determine the factors that led to their deaths and what services could have prevented their deaths. This led the state to expand access to naloxone as well as treatment services including those for incarcerated individuals in order to save lives and help people transition back into society. He supported the expansion of harm reduction programs to more than a dozen sites across the state. He was also instrumental in expanding state-of the-art\, comprehensive and integrative medical and behavioral health programs for pregnant and postpartum women. \nDr. Gupta is a national and global thought leader and a driver of innovative public policies who practices what he preaches. He is a buprenorphine-waivered practitioner\, providing medication-assisted treatment for people with opioid use disorder. He has been recognized for his career of public service by the American Medical Association\, the American Public Health Association\, and by Governing Magazine\, which named him their Public Health Official of the Year in 2018. Additionally\, the Pulitzer Prize-winning Charleston Gazette-Mail named him as one of its West Virginians of the Year in 2017 for his service to the state.
URL:https://www.beaconhealthsystem.org/medical-professionals/event/office-of-national-drug-control-policy-federal-drug-control-initiatives/
LOCATION:On Demand
CATEGORIES:CME Events,On Demand CME Events,Opioid
END:VEVENT
BEGIN:VEVENT
DTSTART;VALUE=DATE:20240103
DTEND;VALUE=DATE:20240104
DTSTAMP:20260423T083808
CREATED:20231228T144437Z
LAST-MODIFIED:20240103T173604Z
UID:10000391-1704240000-1704326399@www.beaconhealthsystem.org
SUMMARY:Street Drug Contamination
DESCRIPTION:Click HERE to Access OnDeamnd Recording  \nClick HERE to Access CME Evaluation  \nStreet Drug Contamination \nPresented By: Lindsay Weaver\, MD\, FACEP – State Health Commissioner \nDr. Weaver was named Indiana State Health Commissioner by Governor Eric J. Holcomb on June 1\, 2023. She brings to the role a passion for improving the health of Hoosiers through a focus on prevention\, data-informed programming\, and access to care in all corners of the state.\nPrior to her appointment\, she had served since Feb. 3\, 2020\, as the chief medical officer for the Indiana Department of Health (IDOH)\, where she helped to lead the state’s pandemic response by spearheading the development of the statewide lab testing network to expand COVID-19 testing capacity in Indiana and led the statewide distribution of COVID-19 vaccines and therapeutics. She provided clinical input and support t to all agency divisions during her tenure as chief medical officer and helped lead efforts to transform the delivery of public health services in Indiana.\nDr. Weaver is also an assistant professor of clinical emergency medicine at the Indiana University School of Medicine and continues to practice emergency medicine at Methodist Hospital in Indianapolis.\nShe earned her undergraduate degree in biology at the University of Kentucky and graduated from the University of Louisville School of Medicine. She received residency training in emergency medicine and fellowship training in hospice and palliative medicine at Indiana University School of Medicine\, and she completed a fellowship in ethics at the Charles Warren Fairbanks Center for Medical Ethics at Indiana University Health.
URL:https://www.beaconhealthsystem.org/medical-professionals/event/street-drug-contamination/
LOCATION:On Demand
CATEGORIES:On Demand CME Events,Opioid
END:VEVENT
END:VCALENDAR