BEGIN:VCALENDAR
VERSION:2.0
PRODID:-//Beacon Medical Professionals - ECPv6.6.3//NONSGML v1.0//EN
CALSCALE:GREGORIAN
METHOD:PUBLISH
X-WR-CALNAME:Beacon Medical Professionals
X-ORIGINAL-URL:https://www.beaconhealthsystem.org/medical-professionals
X-WR-CALDESC:Events for Beacon Medical Professionals
REFRESH-INTERVAL;VALUE=DURATION:PT1H
X-Robots-Tag:noindex
X-PUBLISHED-TTL:PT1H
BEGIN:VTIMEZONE
TZID:UTC
BEGIN:STANDARD
TZOFFSETFROM:+0000
TZOFFSETTO:+0000
TZNAME:UTC
DTSTART:20230101T000000
END:STANDARD
END:VTIMEZONE
BEGIN:VEVENT
DTSTART;VALUE=DATE:20230927
DTEND;VALUE=DATE:20230928
DTSTAMP:20260420T195317
CREATED:20230707T204752Z
LAST-MODIFIED:20231004T114539Z
UID:10000280-1695772800-1695859199@www.beaconhealthsystem.org
SUMMARY:2023 HME Learning Experience & Case Studies
DESCRIPTION:Click HERE to Access OnDemand Recording \nClick HERE to Access CME Evaluation  \n2023 HME Learning Experience & Case Studies \nPresented By: 2023 HME Medical Students \nCristina Olvera-Jaramillo\, Hanna Malik\, John Bales\, Mahmoud Al-Fadhl\, Morgan Lain\, Noah Cooke
URL:https://www.beaconhealthsystem.org/medical-professionals/event/2023-hme-learning-experience-case-studies/
LOCATION:Auditorium at Memorial Hospital\, 615 N Michigan St\, South Bend\, IN\, 46601\, United States
CATEGORIES:CME Events,On Demand CME Events
END:VEVENT
END:VCALENDAR