BEGIN:VCALENDAR
VERSION:2.0
PRODID:-//Beacon Medical Professionals - ECPv6.6.3//NONSGML v1.0//EN
CALSCALE:GREGORIAN
METHOD:PUBLISH
X-ORIGINAL-URL:https://www.beaconhealthsystem.org/medical-professionals
X-WR-CALDESC:Events for Beacon Medical Professionals
REFRESH-INTERVAL;VALUE=DURATION:PT1H
X-Robots-Tag:noindex
X-PUBLISHED-TTL:PT1H
BEGIN:VTIMEZONE
TZID:UTC
BEGIN:STANDARD
TZOFFSETFROM:+0000
TZOFFSETTO:+0000
TZNAME:UTC
DTSTART:20230101T000000
END:STANDARD
END:VTIMEZONE
BEGIN:VEVENT
DTSTART;VALUE=DATE:20230201
DTEND;VALUE=DATE:20230202
DTSTAMP:20260423T070604
CREATED:20230104T230319Z
LAST-MODIFIED:20230302T183935Z
UID:10000358-1675209600-1675295999@www.beaconhealthsystem.org
SUMMARY:Surgery Update
DESCRIPTION:Click HERE to Access OnDemand Recording  \nClick HERE to Access CME Evaluation  \nSurgery Update \nPresented By: Matthew Deere\, DO General Surgery\, Elkhart Clinic \nDr. Matthew Deere is a general surgeon in Elkhart\, Indiana and is affiliated with Elkhart General Hospital. He received his medical degree from Michigan State University College of Osteopathic Medicine and has been in practice between 6-10 years.
URL:https://www.beaconhealthsystem.org/medical-professionals/event/surgery-update/
LOCATION:OnDemand
CATEGORIES:CME Events,Grand Rounds,On Demand CME Events
END:VEVENT
BEGIN:VEVENT
DTSTART;VALUE=DATE:20230208
DTEND;VALUE=DATE:20230209
DTSTAMP:20260423T070604
CREATED:20230104T230743Z
LAST-MODIFIED:20230302T184229Z
UID:10000359-1675814400-1675900799@www.beaconhealthsystem.org
SUMMARY:Disclosing Lab Results
DESCRIPTION:Click HERE to Access OnDemand Recording \nClick HERE to Access CME Evaluation  \nDisclosing Lab Results \nPresented By: Ken Cotter\, JD – St. Joseph County Prosecuting Attorney \nKen grew up in Mishawaka\, graduating from Penn High School and the University of Notre Dame. After college\, Ken taught and coached high school in Phoenix\, Arizona until returning home to attend to law school (also at Notre Dame) and begin his legal career. During his legal career\, Ken has prosecuted a variety of cases\, ranging from misdemeanor to murder. He has lead Misdemeanor Division\, the Family Violence/ Special Victim’s Unit (SVU)\, the High Tech Crimes Unit\, and the Drug and Firearms Unit.
URL:https://www.beaconhealthsystem.org/medical-professionals/event/disclosing-lab-results/
LOCATION:OnDemand
CATEGORIES:CME Events,Grand Rounds,On Demand CME Events
END:VEVENT
BEGIN:VEVENT
DTSTART;VALUE=DATE:20230215
DTEND;VALUE=DATE:20230216
DTSTAMP:20260423T070604
CREATED:20230104T231204Z
LAST-MODIFIED:20230302T184313Z
UID:10000360-1676419200-1676505599@www.beaconhealthsystem.org
SUMMARY:Acute PE\, Risk Stratification\, Multidisciplinary Management\, and PERT Updates
DESCRIPTION:Click HERE to Access OnDemand Recording \nClick HERE to Access CME Evaluation  \nAcute PE\, Risk Stratification\, Multidisciplinary Management\, and PERT Updates \nPresented By: Diego Heredia\, MD – Pulmonology\, Beacon Health System \nDr. Heredia received his medical degree from Universidad de Cuenca in Ecuador. He completed his internal medicine residency at the University of Miami Miller School of Medicine and Jackson Memorial Hospital and his pulmonary and critical care medicine fellowship at Loyola University of Chicago Stritch School of Medicine and Loyola University Medical Center. \nTriple Board-certified in internal medicine\, pulmonary disease and critical care medicine\, Dr. Heredia treats patients with critical illness and those with acute and chronic lung disease. In addition\, Dr. Heredia performs thoracic ultrasonography\, ultrasound-guided thoracentesis\, bronchoscopy with endobronchial and transbronchial lung biopsy\, endobronchial ultrasound guided fine needle aspiration and several other procedures. Dr. Heredia is the Medical Director of the COPD readmission reduction program at Elkhart General Hospital and the leader of the Pulmonary Embolism Response Team.
URL:https://www.beaconhealthsystem.org/medical-professionals/event/acute-pe-risk-stratification-multidisciplinary-management-and-pert-updates/
LOCATION:OnDemand
CATEGORIES:CME Events,Grand Rounds,On Demand CME Events
END:VEVENT
BEGIN:VEVENT
DTSTART;VALUE=DATE:20230222
DTEND;VALUE=DATE:20230223
DTSTAMP:20260423T070604
CREATED:20230104T231644Z
LAST-MODIFIED:20230310T223641Z
UID:10000361-1677024000-1677110399@www.beaconhealthsystem.org
SUMMARY:Opioid Prescribing Updates
DESCRIPTION:Click HERE to Access OnDemand Recording \nClick HERE to Access CME Evaluation  \nOpioid Prescribing Updates \nPresented By: Daniel Cooke\, MD – Pain Medicine\, Beacon Health System \n  \nDr. Daniel Cooke\, MD is a Pain Medicine Specialist in South Bend\, IN and has over 36 years of experience in the medical field. He graduated from MICHIGAN STATE UNIVERSITY in 1987. He is affiliated with medical facilities Memorial Hospital Of South Bend and Saint Joseph Health System – Plymouth Medical Center.
URL:https://www.beaconhealthsystem.org/medical-professionals/event/opioid-prescribing-updates/
LOCATION:OnDemand
CATEGORIES:CME Events,Grand Rounds,On Demand CME Events,Opioid CME
END:VEVENT
END:VCALENDAR